BEGIN:VCALENDAR
VERSION:2.0
PRODID:-ABConcerts-events
METHOD:PUBLISH
BEGIN:VEVENT
TRANSP:OPAQUE
DTSTART:20251007T190000
DTEND:20251007T223000
SUMMARY:Yseult
LOCATION:AB Grote zaal (Anspachlaan 110\, 1000 Brussel)
DESCRIPTION:Fusie van pop\, rock\, chanson én elektronische invloeden -\nfrom Paris to the world
URL;VALUE=URI:https://zebrix.abconcerts.be/nl/agenda/yseult/a10Qw00000BLQFhIAP
UID:ABConcerts_event_1f04aca4-3467-62d4-9732-63f58fc6c8d2
SEQUENCE:0
DTSTAMP:20260421T084353Z
END:VEVENT
END:VCALENDAR
