BEGIN:VCALENDAR
VERSION:2.0
PRODID:-ABConcerts-events
METHOD:PUBLISH
BEGIN:VEVENT
TRANSP:OPAQUE
DTSTART:20191130T200000
DTEND:20191130T223000
SUMMARY:Wallace Vanborn
LOCATION:AB Club - staand (Anspachlaan 110\, 1000 Brussel)
DESCRIPTION:Albumvoorstelling: “A Scalp For The Tribe”
URL;VALUE=URI:https://zebrix.abconcerts.be/nl/agenda/wallace-vanborn/a105J000001wd60QAA
UID:ABConcerts_event_2e5cff44-599f-11eb-97b9-5254eb761bff
SEQUENCE:0
DTSTAMP:20260420T232434Z
END:VEVENT
END:VCALENDAR
