BEGIN:VCALENDAR
VERSION:2.0
PRODID:-ABConcerts-events
METHOD:PUBLISH
BEGIN:VEVENT
TRANSP:OPAQUE
DTSTART:20270305T190000
DTEND:20270305T223000
SUMMARY:Trentemøller
LOCATION:AB Grote zaal (Anspachlaan 110\, 1000 Brussel)
DESCRIPTION:Filmisch\, melancholisch en verrassend intens
URL;VALUE=URI:https://zebrix.abconcerts.be/nl/agenda/trentemoller/a10Qw00000EBcLFIA1
UID:ABConcerts_event_1f13d985-c73a-6120-bf98-193fc57daa3c
SEQUENCE:0
DTSTAMP:20260422T154343Z
END:VEVENT
END:VCALENDAR
