BEGIN:VCALENDAR
VERSION:2.0
PRODID:-ABConcerts-events
METHOD:PUBLISH
BEGIN:VEVENT
TRANSP:OPAQUE
DTSTART:20260528T190000
DTEND:20260528T223000
SUMMARY:The Sheila Divine
LOCATION:AB Grote zaal (Anspachlaan 110\, 1000 Brussel)
DESCRIPTION:‘POST / EVERYTHING’-TOUR
URL;VALUE=URI:https://zebrix.abconcerts.be/nl/agenda/the-sheila-divine/a10Qw00000Aox8nIAB
UID:ABConcerts_event_1f0558d1-f0d9-61fe-947b-7f5ddfa3e2e0
SEQUENCE:0
DTSTAMP:20260424T093941Z
END:VEVENT
END:VCALENDAR
