BEGIN:VCALENDAR
VERSION:2.0
PRODID:-ABConcerts-events
METHOD:PUBLISH
BEGIN:VEVENT
TRANSP:OPAQUE
DTSTART:20250513T190000
DTEND:20250513T223000
SUMMARY:The Murder Capital
LOCATION:AB Ballroom (Anspachlaan 110\, 1000 Brussel)
DESCRIPTION:Ieren laten postpunk grootser dan ooit klinken
URL;VALUE=URI:https://zebrix.abconcerts.be/nl/agenda/the-murder-capital/a10Qw000002lBzmIAE
UID:ABConcerts_event_1efa1d0a-8507-6e5c-bc72-ad8a032cbd69
SEQUENCE:0
DTSTAMP:20260421T113634Z
END:VEVENT
END:VCALENDAR
