BEGIN:VCALENDAR
VERSION:2.0
PRODID:-ABConcerts-events
METHOD:PUBLISH
BEGIN:VEVENT
TRANSP:OPAQUE
DTSTART:20260512T190000
DTEND:20260512T223000
SUMMARY:Tamikrest
LOCATION:AB Club - staand (Anspachlaan 110\, 1000 Brussel)
DESCRIPTION:Exclusieve album relesase show
URL;VALUE=URI:https://zebrix.abconcerts.be/nl/agenda/tamikrest/a10Qw00000BnYbiIAF
UID:ABConcerts_event_1f096d05-8486-6280-b1a8-fd7a72075e67
SEQUENCE:0
DTSTAMP:20260421T130636Z
END:VEVENT
END:VCALENDAR
