BEGIN:VCALENDAR
VERSION:2.0
PRODID:-ABConcerts-events
METHOD:PUBLISH
BEGIN:VEVENT
TRANSP:OPAQUE
DTSTART:20230907T190000
DTEND:20230907T223000
SUMMARY:Squid
LOCATION:AB Ballroom (Anspachlaan 110\, 1000 Brussel)
DESCRIPTION:Een van de coolste en meest innovatieve bands die Engeland\nal voortbracht!
URL;VALUE=URI:https://zebrix.abconcerts.be/nl/agenda/squid/a105J000008G6rjQAC
UID:ABConcerts_event_8d6e7222-a30a-11ed-b31f-5254eb761bff
SEQUENCE:0
DTSTAMP:20260422T122147Z
END:VEVENT
END:VCALENDAR
