BEGIN:VCALENDAR
VERSION:2.0
PRODID:-ABConcerts-events
METHOD:PUBLISH
BEGIN:VEVENT
TRANSP:OPAQUE
DTSTART:20230211T190000
DTEND:20230211T223000
SUMMARY:Sorry
LOCATION:AB Club - staand (Anspachlaan 110\, 1000 Brussel)
DESCRIPTION:Spannend nieuw geluid uit Londen\, uitgebracht op Domino
URL;VALUE=URI:https://zebrix.abconcerts.be/nl/agenda/sorry/a105J000007YcydQAC
UID:ABConcerts_event_41c8e364-2ae9-11ed-a1ca-5254eb761bff
SEQUENCE:0
DTSTAMP:20260423T175227Z
END:VEVENT
END:VCALENDAR
