BEGIN:VCALENDAR
VERSION:2.0
PRODID:-ABConcerts-events
METHOD:PUBLISH
BEGIN:VEVENT
TRANSP:OPAQUE
DTSTART:20260429T190000
DTEND:20260429T223000
SUMMARY:Seefeel
LOCATION:AB Club - staand (Anspachlaan 110\, 1000 Brussel)
DESCRIPTION:Britse pioniers die shoegaze\, vroege IDM en ambient\nversmelten
URL;VALUE=URI:https://zebrix.abconcerts.be/nl/agenda/seefeel/a10Qw00000ELgCIIA1
UID:ABConcerts_event_1f0b012f-bc27-6e68-ab52-870bf0521176
SEQUENCE:0
DTSTAMP:20260421T172721Z
END:VEVENT
END:VCALENDAR
