BEGIN:VCALENDAR
VERSION:2.0
PRODID:-ABConcerts-events
METHOD:PUBLISH
BEGIN:VEVENT
TRANSP:OPAQUE
DTSTART:20220519T200000
DTEND:20220519T223000
SUMMARY:REWIND - Soulsister plays ‘Heat’ (1990)
LOCATION:AB Grote zaal (Anspachlaan 110\, 1000 Brussel)
DESCRIPTION:Soulsister speelt integraal hun succesvolle (en 30 jaar\noude) kaskraker
URL;VALUE=URI:https://zebrix.abconcerts.be/nl/agenda/rewind-soulsister-plays-heat-1990/a105J000001wgyUQAQ
UID:ABConcerts_event_73a3ffb2-599f-11eb-b2f8-5254eb761bff
SEQUENCE:0
DTSTAMP:20260419T185113Z
END:VEVENT
END:VCALENDAR
