BEGIN:VCALENDAR
VERSION:2.0
PRODID:-ABConcerts-events
METHOD:PUBLISH
BEGIN:VEVENT
TRANSP:OPAQUE
DTSTART:20260520T190000
DTEND:20260520T223000
SUMMARY:Puggy
LOCATION:AB Grote zaal (Anspachlaan 110\, 1000 Brussel)
DESCRIPTION:Puggy keert terug naar AB!
URL;VALUE=URI:https://zebrix.abconcerts.be/nl/agenda/puggy/a10Qw00000FZ37GIAT
UID:ABConcerts_event_1f0d9a74-d493-61ba-b566-cbb9c722f707
SEQUENCE:0
DTSTAMP:20260420T045753Z
END:VEVENT
END:VCALENDAR
