BEGIN:VCALENDAR
VERSION:2.0
PRODID:-ABConcerts-events
METHOD:PUBLISH
BEGIN:VEVENT
TRANSP:OPAQUE
DTSTART:20200321T200000
DTEND:20200321T220000
SUMMARY:POSTPONED: The Bipolar
LOCATION:AB Box (Anspachlaan 110\, 1000 Brussel)
DESCRIPTION:Electro pop from Belgium
URL;VALUE=URI:https://zebrix.abconcerts.be/nl/agenda/postponed-the-bipolar/a105J000001wgyZQAQ
UID:ABConcerts_event_c67f55ba-599f-11eb-a458-5254eb761bff
SEQUENCE:0
DTSTAMP:20260424T040607Z
END:VEVENT
END:VCALENDAR
