BEGIN:VCALENDAR
VERSION:2.0
PRODID:-ABConcerts-events
METHOD:PUBLISH
BEGIN:VEVENT
TRANSP:OPAQUE
DTSTART:20200422T200000
DTEND:20200422T223000
SUMMARY:POSTPONED: AB & Beursschouwburg present Clipping
LOCATION:Beursschouwburg (Auguste Ortsstraat 20/28\, 1000 Brussel)
DESCRIPTION:Evil horrorcore rap. Niets is veilig.
URL;VALUE=URI:https://zebrix.abconcerts.be/nl/agenda/postponed-ab-beursschouwburg-present-clipping/a105J000001wd1rQAA
UID:ABConcerts_event_610c4120-599f-11eb-94d1-5254eb761bff
SEQUENCE:0
DTSTAMP:20260420T085535Z
END:VEVENT
END:VCALENDAR
