BEGIN:VCALENDAR
VERSION:2.0
PRODID:-ABConcerts-events
METHOD:PUBLISH
BEGIN:VEVENT
TRANSP:OPAQUE
DTSTART:20260515T190000
DTEND:20260516T030000
SUMMARY:OUTRAGEOUS: Shata Mata
LOCATION:AB Ballroom (Anspachlaan 110\, 1000 Brussel)
DESCRIPTION:We don’t ask\, we take space\, welcome to the SHATA MATA\nera
URL;VALUE=URI:https://zebrix.abconcerts.be/nl/agenda/outrageous-shata-mata/a10Qw000001UmBWIA0
UID:ABConcerts_event_1f12d1d7-8b12-600a-927c-430507ff5169
SEQUENCE:0
DTSTAMP:20260423T125154Z
END:VEVENT
END:VCALENDAR
