BEGIN:VCALENDAR
VERSION:2.0
PRODID:-ABConcerts-events
METHOD:PUBLISH
BEGIN:VEVENT
TRANSP:OPAQUE
DTSTART:20260525T190000
DTEND:20260525T223000
SUMMARY:N'Faly Kouyaté
LOCATION:AB Ballroom (Anspachlaan 110\, 1000 Brussel)
DESCRIPTION:Guinees-Belgische griot\, kora- en balafon-virtuoos\npresenteert nieuw album met Tiken Jah Fakoly en meer\nsucculente gasten
URL;VALUE=URI:https://zebrix.abconcerts.be/nl/agenda/nfaly-kouyate/a10Qw00000B85fKIAR
UID:ABConcerts_event_1f0cf6d5-ac3a-6576-b447-25651237dd48
SEQUENCE:0
DTSTAMP:20260423T175426Z
END:VEVENT
END:VCALENDAR
