BEGIN:VCALENDAR
VERSION:2.0
PRODID:-ABConcerts-events
METHOD:PUBLISH
BEGIN:VEVENT
TRANSP:OPAQUE
DTSTART:20220330T190000
DTEND:20220330T223000
SUMMARY:New date: Zwangere Guy - CONCERT #5
LOCATION:AB Grote zaal (Anspachlaan 110\, 1000 Brussel)
DESCRIPTION:Papa ZG voegt extra show toe aan AB-passage
URL;VALUE=URI:https://zebrix.abconcerts.be/nl/agenda/new-date-zwangere-guy-concert-5/a105J000005HeEcQAK
UID:ABConcerts_event_8c9a04ba-0cca-11ec-a3b3-525456751928
SEQUENCE:0
DTSTAMP:20260425T202225Z
END:VEVENT
END:VCALENDAR
