BEGIN:VCALENDAR
VERSION:2.0
PRODID:-ABConcerts-events
METHOD:PUBLISH
BEGIN:VEVENT
TRANSP:OPAQUE
DTSTART:20191024T200000
DTEND:20191024T223000
SUMMARY:music:LX presents Maz - Napoleon Gold - Say Yes Dog
LOCATION:AB Club - staand (Anspachlaan 110\, 1000 Brussel)
DESCRIPTION:Luxembourg Sounds Like :
URL;VALUE=URI:https://zebrix.abconcerts.be/nl/agenda/musiclx-presents-maz-napoleon-gold-say-yes-dog/a105J000001wd59QAA
UID:ABConcerts_event_2def2924-599f-11eb-9550-5254eb761bff
SEQUENCE:0
DTSTAMP:20260422T114832Z
END:VEVENT
END:VCALENDAR
