BEGIN:VCALENDAR
VERSION:2.0
PRODID:-ABConcerts-events
METHOD:PUBLISH
BEGIN:VEVENT
TRANSP:OPAQUE
DTSTART:20250517T190000
DTEND:20250517T223000
SUMMARY:Mitsune
LOCATION:AB Club - staand (Anspachlaan 110\, 1000 Brussel)
DESCRIPTION:Psychedelische Japanse folkfusion uit Berlijn
URL;VALUE=URI:https://zebrix.abconcerts.be/nl/agenda/mitsune/a10Qw000003YIFJIA4
UID:ABConcerts_event_1efdfd99-22db-63f0-a741-8f1209c0c234
SEQUENCE:0
DTSTAMP:20260421T154652Z
END:VEVENT
END:VCALENDAR
