BEGIN:VCALENDAR
VERSION:2.0
PRODID:-ABConcerts-events
METHOD:PUBLISH
BEGIN:VEVENT
TRANSP:OPAQUE
DTSTART:20260610T160000
DTEND:20260610T200000
SUMMARY:Group Atelier w/Youssef Swatt's
LOCATION:AB Salon - zittend (Steenstraat 11\, 1000 Brussel)
DESCRIPTION:Feedback op podiumprésence met Youssef Swatt's
URL;VALUE=URI:https://zebrix.abconcerts.be/nl/agenda/group-atelier-wyoussef-swatts/a10Qw00000HotxDIAR
UID:ABConcerts_event_1f12c3c8-eb07-646e-84a6-c3c0564d1329
SEQUENCE:0
DTSTAMP:20260422T172547Z
END:VEVENT
END:VCALENDAR
