BEGIN:VCALENDAR
VERSION:2.0
PRODID:-ABConcerts-events
METHOD:PUBLISH
BEGIN:VEVENT
TRANSP:OPAQUE
DTSTART:20241009T190000
DTEND:20241009T223000
SUMMARY:Goat Girl
LOCATION:AB Club - staand (Anspachlaan 110\, 1000 Brussel)
DESCRIPTION:Meeslepende post-punk met een donker randje
URL;VALUE=URI:https://zebrix.abconcerts.be/nl/agenda/goat-girl/a10Qw000000p7KPIAY
UID:ABConcerts_event_1eef1a5d-4304-6ee8-89d7-537602ff051c
SEQUENCE:0
DTSTAMP:20260423T170729Z
END:VEVENT
END:VCALENDAR
