BEGIN:VCALENDAR
VERSION:2.0
PRODID:-ABConcerts-events
METHOD:PUBLISH
BEGIN:VEVENT
TRANSP:OPAQUE
DTSTART:20261215T190000
DTEND:20261215T223000
SUMMARY:Girls In Hawaii presents Eldorado
LOCATION:AB Grote zaal (Anspachlaan 110\, 1000 Brussel)
DESCRIPTION:Extra show!
URL;VALUE=URI:https://zebrix.abconcerts.be/nl/agenda/girls-in-hawaii-presents-eldorado/a10Qw00000F1TKHIA3
UID:ABConcerts_event_1f1223d4-7ee0-6a04-9f7a-4d4d238a1524
SEQUENCE:0
DTSTAMP:20260421T155331Z
END:VEVENT
END:VCALENDAR
