BEGIN:VCALENDAR
VERSION:2.0
PRODID:-ABConcerts-events
METHOD:PUBLISH
BEGIN:VEVENT
TRANSP:OPAQUE
DTSTART:20261008T190000
DTEND:20261008T223000
SUMMARY:gala dragot
LOCATION:AB Club - staand (Anspachlaan 110\, 1000 Brussel)
DESCRIPTION:Zelfverklaarde femcel combineert electronica en klassieke\ninvloeden
URL;VALUE=URI:https://zebrix.abconcerts.be/nl/agenda/gala-dragot/a10Qw00000GYORlIAP
UID:ABConcerts_event_1f128487-118a-6ba8-be6f-3d6a7714d0eb
SEQUENCE:0
DTSTAMP:20260421T142906Z
END:VEVENT
END:VCALENDAR
