BEGIN:VCALENDAR
VERSION:2.0
PRODID:-ABConcerts-events
METHOD:PUBLISH
BEGIN:VEVENT
TRANSP:OPAQUE
DTSTART:20260511T190000
DTEND:20260511T223000
SUMMARY:Florry
LOCATION:AB Club - staand (Anspachlaan 110\, 1000 Brussel)
DESCRIPTION:Philly based alt-country rockers!
URL;VALUE=URI:https://zebrix.abconcerts.be/nl/agenda/florry/a10Qw00000CzKUMIA3
UID:ABConcerts_event_1f081849-d8ad-6334-b1c2-b1ba1c07ba2a
SEQUENCE:0
DTSTAMP:20260421T023343Z
END:VEVENT
END:VCALENDAR
