BEGIN:VCALENDAR
VERSION:2.0
PRODID:-ABConcerts-events
METHOD:PUBLISH
BEGIN:VEVENT
TRANSP:OPAQUE
DTSTART:20261011T190000
DTEND:20261011T223000
SUMMARY:Finojet
LOCATION:AB Club - staand (Anspachlaan 110\, 1000 Brussel)
DESCRIPTION:Warme Australische indie-folk
URL;VALUE=URI:https://zebrix.abconcerts.be/nl/agenda/finojet/a10Qw00000FdspVIAR
UID:ABConcerts_event_1f11e1e8-f5bf-632e-8854-9d50cfb5f19b
SEQUENCE:0
DTSTAMP:20260423T124538Z
END:VEVENT
END:VCALENDAR
