BEGIN:VCALENDAR
VERSION:2.0
PRODID:-ABConcerts-events
METHOD:PUBLISH
BEGIN:VEVENT
TRANSP:OPAQUE
DTSTART:20230831T190000
DTEND:20230831T233000
SUMMARY:Feeërieën: Etran de l'Aïr (Sahel Sounds) + Brìghde Chaim
beul
LOCATION:Het Warandepark (Warandepark\, 1000 Brussels)
DESCRIPTION:Van stomende desert blues uit de Sahel tot bezwerende\nSchotse bag pipes
URL;VALUE=URI:https://zebrix.abconcerts.be/nl/agenda/feeerieen-etran-de-lair-sahel-sounds-brighde-chaimbeul/a105J000008G47VQAS
UID:ABConcerts_event_14c34aaa-e4eb-11ed-b76f-5254eb761bff
SEQUENCE:0
DTSTAMP:20260425T231256Z
END:VEVENT
END:VCALENDAR
