BEGIN:VCALENDAR
VERSION:2.0
PRODID:-ABConcerts-events
METHOD:PUBLISH
BEGIN:VEVENT
TRANSP:OPAQUE
DTSTART:20200503T200000
DTEND:20200503T223000
SUMMARY:CANCELLED: Giant Rooks
LOCATION:AB Box (Anspachlaan 110\, 1000 Brussel)
DESCRIPTION:Naar aanleiding van COVID-19 wordt het concert van  GIANT\nROOKS afgelast.  Wij danken je voor jouw begrip.  Tickets\ndie online zijn aangekocht worden automatisch binnen de 30\ndagen terug betaald via het betaalmiddel waarmee ze zijn\naangekocht.  Indien u tickets aangekocht heeft in de\nTicketshop of via Ticketswap\, gelieve een foto van jouw\ntickets te sturen met vermelding van uw rekeningnummer\nnaar info@abconcerts.be.  
URL;VALUE=URI:https://zebrix.abconcerts.be/nl/agenda/cancelled-giant-rooks/a105J000001wd4rQAA
UID:ABConcerts_event_2b1fe134-599f-11eb-8aa5-5254eb761bff
SEQUENCE:0
DTSTAMP:20260422T150506Z
END:VEVENT
END:VCALENDAR
