BEGIN:VCALENDAR
VERSION:2.0
PRODID:-ABConcerts-events
METHOD:PUBLISH
BEGIN:VEVENT
TRANSP:OPAQUE
DTSTART:20240313T190000
DTEND:20240313T223000
SUMMARY:Zimmerman
LOCATION:AB Club - staand (Anspachlaan 110\, 1000 Brussel)
DESCRIPTION:Le bassiste de Balthazar fait un beau disque d'amour
URL;VALUE=URI:https://zebrix.abconcerts.be/fr/agenda/zimmerman/a105J0000071ICIQA2
UID:ABConcerts_event_af4f0364-5617-11ee-9d15-52547ec8b846
SEQUENCE:0
DTSTAMP:20260424T070444Z
END:VEVENT
END:VCALENDAR
