BEGIN:VCALENDAR
VERSION:2.0
PRODID:-ABConcerts-events
METHOD:PUBLISH
BEGIN:VEVENT
TRANSP:OPAQUE
DTSTART:20270306T190000
DTEND:20270306T223000
SUMMARY:Trentemøller
LOCATION:AB Grote zaal (Anspachlaan 110\, 1000 Brussel)
DESCRIPTION:Cinématographique\, mélancolique et d'une intensité\nsurprenante
URL;VALUE=URI:https://zebrix.abconcerts.be/fr/agenda/trentemoller/a10Qw00000EBcLGIA1
UID:ABConcerts_event_1f13d985-c738-65d2-8f47-193fc57daa3c
SEQUENCE:0
DTSTAMP:20260422T172035Z
END:VEVENT
END:VCALENDAR
