BEGIN:VCALENDAR
VERSION:2.0
PRODID:-ABConcerts-events
METHOD:PUBLISH
BEGIN:VEVENT
TRANSP:OPAQUE
DTSTART:20260426T190000
DTEND:20260426T223000
SUMMARY:TJE
LOCATION:AB Club - staand (Anspachlaan 110\, 1000 Brussel)
DESCRIPTION:Entre innocence enfantine\, post-rock furieux et minimalisme\natmosphérique
URL;VALUE=URI:https://zebrix.abconcerts.be/fr/agenda/tje/a10Qw00000B3q8cIAB
UID:ABConcerts_event_1f09a089-0ac1-671c-9b0f-4f119f65fd12
SEQUENCE:0
DTSTAMP:20260421T142921Z
END:VEVENT
END:VCALENDAR
