BEGIN:VCALENDAR
VERSION:2.0
PRODID:-ABConcerts-events
METHOD:PUBLISH
BEGIN:VEVENT
TRANSP:OPAQUE
DTSTART:20260421T190000
DTEND:20260421T223000
SUMMARY:Stijn plays Prince - 10 years after
LOCATION:AB Club - staand (Anspachlaan 110\, 1000 Brussel)
DESCRIPTION:Tribute pour le dixième anniversaire de la disparition de\n‘His Royal Badness’
URL;VALUE=URI:https://zebrix.abconcerts.be/fr/agenda/stijn-plays-prince-10-years-after/a10Qw00000BDWTZIA5
UID:ABConcerts_event_1f0ad8d9-3b11-69f6-8893-e7bf91c90d43
SEQUENCE:0
DTSTAMP:20260421T153003Z
END:VEVENT
END:VCALENDAR
