BEGIN:VCALENDAR
VERSION:2.0
PRODID:-ABConcerts-events
METHOD:PUBLISH
BEGIN:VEVENT
TRANSP:OPAQUE
DTSTART:20250504T190000
DTEND:20250504T223000
SUMMARY:Sirens Of Lesbos
LOCATION:AB Club - staand (Anspachlaan 110\, 1000 Brussel)
DESCRIPTION:Groupe érythréo-soudano-suisse au groove irrésistible
URL;VALUE=URI:https://zebrix.abconcerts.be/fr/agenda/sirens-of-lesbos/a10Qw000004fmWEIAY
UID:ABConcerts_event_1efda78d-8288-61de-99fb-6b73efb3c9b1
SEQUENCE:0
DTSTAMP:20260421T143428Z
END:VEVENT
END:VCALENDAR
