BEGIN:VCALENDAR
VERSION:2.0
PRODID:-ABConcerts-events
METHOD:PUBLISH
BEGIN:VEVENT
TRANSP:OPAQUE
DTSTART:20250521T190000
DTEND:20250521T223000
SUMMARY:Shonen Knife
LOCATION:AB Club - staand (Anspachlaan 110\, 1000 Brussel)
DESCRIPTION:The original Japanese pop-punk riot girrrls are back!
URL;VALUE=URI:https://zebrix.abconcerts.be/fr/agenda/shonen-knife/a10Qw000003sFRlIAM
UID:ABConcerts_event_1efb0a44-3ceb-6f7e-a50a-097a44a9b79b
SEQUENCE:0
DTSTAMP:20260421T142824Z
END:VEVENT
END:VCALENDAR
