BEGIN:VCALENDAR
VERSION:2.0
PRODID:-ABConcerts-events
METHOD:PUBLISH
BEGIN:VEVENT
TRANSP:OPAQUE
DTSTART:20260925T190000
DTEND:20260925T223000
SUMMARY:Shabaka presents 'Of The Earth'
LOCATION:AB Flex (Anspachlaan 110\, 1000 Brussel)
DESCRIPTION:Shabaka Hutchings\, leader de Sons of Kemet et The Comet Is\nComing\, reprend son saxo pour "son album le plus punk à ce\njour"
URL;VALUE=URI:https://zebrix.abconcerts.be/fr/agenda/shabaka-presents-of-the-earth/a10Qw00000GphBQIAZ
UID:ABConcerts_event_1f10787b-edfa-6710-a03a-174cc095f0ae
SEQUENCE:0
DTSTAMP:20260421T145326Z
END:VEVENT
END:VCALENDAR
