BEGIN:VCALENDAR
VERSION:2.0
PRODID:-ABConcerts-events
METHOD:PUBLISH
BEGIN:VEVENT
TRANSP:OPAQUE
DTSTART:20260509T190000
DTEND:20260509T223000
SUMMARY:Robert Jon & The Wreck
LOCATION:AB Grote zaal (Anspachlaan 110\, 1000 Brussel)
DESCRIPTION:Le groupe de rock sudiste Robert Jon & The Wreck débarquera\nà l'AB le 9 mai
URL;VALUE=URI:https://zebrix.abconcerts.be/fr/agenda/robert-jon-the-wreck/a10Qw000007YuOlIAK
UID:ABConcerts_event_1f08e461-0677-6272-9f37-bd80f8eff101
SEQUENCE:0
DTSTAMP:20260422T235848Z
END:VEVENT
END:VCALENDAR
