BEGIN:VCALENDAR
VERSION:2.0
PRODID:-ABConcerts-events
METHOD:PUBLISH
BEGIN:VEVENT
TRANSP:OPAQUE
DTSTART:20260505T190000
DTEND:20260505T223000
SUMMARY:Ricky Bekstok
LOCATION:AB Club - staand (Anspachlaan 110\, 1000 Brussel)
DESCRIPTION:Grand carrousel de surstimulation
URL;VALUE=URI:https://zebrix.abconcerts.be/fr/agenda/ricky-bekstok/a10Qw00000FFo0fIAD
UID:ABConcerts_event_1f0f7844-b6c7-6bc2-8555-5f9c818036df
SEQUENCE:0
DTSTAMP:20260420T051836Z
END:VEVENT
END:VCALENDAR
