BEGIN:VCALENDAR
VERSION:2.0
PRODID:-ABConcerts-events
METHOD:PUBLISH
BEGIN:VEVENT
TRANSP:OPAQUE
DTSTART:20260422T190000
DTEND:20260422T223000
SUMMARY:Ragini Trio: Nathan Daems x Lander Gyselinck x Marco Bardosc
ia
LOCATION:AB Club - staand (Anspachlaan 110\, 1000 Brussel)
DESCRIPTION:Le Ragini Trio explore l’espace entre jazz et musique\nclassique indienne.
URL;VALUE=URI:https://zebrix.abconcerts.be/fr/agenda/ragini-trio-nathan-daems-x-lander-gyselinck-x-marco-bardoscia/a10Qw000008Pl5bIAC
UID:ABConcerts_event_1f0d0e7e-fa27-67c8-be6f-9dd5788a0758
SEQUENCE:0
DTSTAMP:20260421T144944Z
END:VEVENT
END:VCALENDAR
