BEGIN:VCALENDAR
VERSION:2.0
PRODID:-ABConcerts-events
METHOD:PUBLISH
BEGIN:VEVENT
TRANSP:OPAQUE
DTSTART:20200624T200000
DTEND:20200624T223000
SUMMARY:POSTPONED: Eefje de Visser
LOCATION:AB Ballroom (Anspachlaan 110\, 1000 Brussel)
DESCRIPTION:Nouvelle date: 24/02/2021
URL;VALUE=URI:https://zebrix.abconcerts.be/fr/agenda/postponed-eefje-de-visser/a105J000001wgzfQAA
UID:ABConcerts_event_bf95cdb0-599f-11eb-b516-5254eb761bff
SEQUENCE:0
DTSTAMP:20260424T021337Z
END:VEVENT
END:VCALENDAR
