BEGIN:VCALENDAR
VERSION:2.0
PRODID:-ABConcerts-events
METHOD:PUBLISH
BEGIN:VEVENT
TRANSP:OPAQUE
DTSTART:20240517T200000
DTEND:20240518T030000
SUMMARY:OUTRAGEOUS: Without Warning
LOCATION:AB Box (Anspachlaan 110\, 1000 Brussel)
DESCRIPTION:AB X FATSABBATS présentent  « A Celebration of Pride  »
URL;VALUE=URI:https://zebrix.abconcerts.be/fr/agenda/outrageous-without-warning/a105J000008G9yMQAS
UID:ABConcerts_event_1eee5fc7-94ce-6248-a9b2-cdb4ee3f9a50
SEQUENCE:0
DTSTAMP:20260421T171014Z
END:VEVENT
END:VCALENDAR
