BEGIN:VCALENDAR
VERSION:2.0
PRODID:-ABConcerts-events
METHOD:PUBLISH
BEGIN:VEVENT
TRANSP:OPAQUE
DTSTART:20191113T200000
DTEND:20191113T223000
SUMMARY:Oscar Jerome
LOCATION:AB Club - staand (Anspachlaan 110\, 1000 Brussel)
DESCRIPTION:Une nouvelle voix incontournable de la scène jazz\nlondonienne !
URL;VALUE=URI:https://zebrix.abconcerts.be/fr/agenda/oscar-jerome/a105J000001wd7HQAQ
UID:ABConcerts_event_4ac3b90c-599f-11eb-b9fc-5254eb761bff
SEQUENCE:0
DTSTAMP:20260421T141615Z
END:VEVENT
END:VCALENDAR
