BEGIN:VCALENDAR
VERSION:2.0
PRODID:-ABConcerts-events
METHOD:PUBLISH
BEGIN:VEVENT
TRANSP:OPAQUE
DTSTART:20260611T190000
DTEND:20260611T223000
SUMMARY:nykolaes & Daniël Paul
LOCATION:AB Club - staand (Anspachlaan 110\, 1000 Brussel)
DESCRIPTION:Les « néo-folkeurs » de Toverberg sont de retour !
URL;VALUE=URI:https://zebrix.abconcerts.be/fr/agenda/nykolaes-daniel-paul/a10Qw00000GeoGDIAZ
UID:ABConcerts_event_1f133640-102e-658c-abfc-7933e8e076ae
SEQUENCE:0
DTSTAMP:20260424T164856Z
END:VEVENT
END:VCALENDAR
