BEGIN:VCALENDAR
VERSION:2.0
PRODID:-ABConcerts-events
METHOD:PUBLISH
BEGIN:VEVENT
TRANSP:OPAQUE
DTSTART:20220329T190000
DTEND:20220329T223000
SUMMARY:New date: Zwangere Guy - CONCERT #4
LOCATION:AB Grote zaal (Anspachlaan 110\, 1000 Brussel)
DESCRIPTION:Un show supplémentaire à l’AB pour Papa ZG
URL;VALUE=URI:https://zebrix.abconcerts.be/fr/agenda/new-date-zwangere-guy-concert-4/a105J000005HeEbQAK
UID:ABConcerts_event_acf93b76-096a-11ec-8adf-525456751928
SEQUENCE:0
DTSTAMP:20260425T185612Z
END:VEVENT
END:VCALENDAR
