BEGIN:VCALENDAR
VERSION:2.0
PRODID:-ABConcerts-events
METHOD:PUBLISH
BEGIN:VEVENT
TRANSP:OPAQUE
DTSTART:20221215T200000
DTEND:20221215T223000
SUMMARY:New date: Vianney
LOCATION:AB Grote zaal (Anspachlaan 110\, 1000 Brussel)
DESCRIPTION:Le grand retour de Vianney
URL;VALUE=URI:https://zebrix.abconcerts.be/fr/agenda/new-date-vianney/a105J000001wd1IQAQ
UID:ABConcerts_event_639f5940-599f-11eb-8e97-5254eb761bff
SEQUENCE:0
DTSTAMP:20260424T191715Z
END:VEVENT
END:VCALENDAR
