BEGIN:VCALENDAR
VERSION:2.0
PRODID:-ABConcerts-events
METHOD:PUBLISH
BEGIN:VEVENT
TRANSP:OPAQUE
DTSTART:20260919T190000
DTEND:20260919T223000
SUMMARY:New date: Chicos y Mendez
LOCATION:AB Box (Anspachlaan 110\, 1000 Brussel)
DESCRIPTION:Release party du nouvel album avec leur cocktail de sons\nlatins\, de poésie et de groove.
URL;VALUE=URI:https://zebrix.abconcerts.be/fr/agenda/new-date-chicos-y-mendez/a10Qw0000017ADNIA2
UID:ABConcerts_event_1f01917e-ec48-6afe-946d-5b74f323f73b
SEQUENCE:0
DTSTAMP:20260423T191852Z
END:VEVENT
END:VCALENDAR
