BEGIN:VCALENDAR
VERSION:2.0
PRODID:-ABConcerts-events
METHOD:PUBLISH
BEGIN:VEVENT
TRANSP:OPAQUE
DTSTART:20191001T200000
DTEND:20191001T223000
SUMMARY:Madrugada
LOCATION:AB Grote zaal (Anspachlaan 110\, 1000 Brussel)
DESCRIPTION:« Industrial Silence Tour »\, 20e anniversaire !
URL;VALUE=URI:https://zebrix.abconcerts.be/fr/agenda/madrugada/a105J000001wd8cQAA
UID:ABConcerts_event_20b46a58-599f-11eb-b4b3-5254eb761bff
SEQUENCE:0
DTSTAMP:20260420T035959Z
END:VEVENT
END:VCALENDAR
