BEGIN:VCALENDAR
VERSION:2.0
PRODID:-ABConcerts-events
METHOD:PUBLISH
BEGIN:VEVENT
TRANSP:OPAQUE
DTSTART:20250122T190000
DTEND:20250122T221500
SUMMARY:Kehlani
LOCATION:AB Grote zaal (Anspachlaan 110\, 1000 Brussel)
DESCRIPTION:CRASH WORLD TOUR
URL;VALUE=URI:https://zebrix.abconcerts.be/fr/agenda/kehlani/a10Qw0000053dbRIAQ
UID:ABConcerts_event_1efa5975-f33b-675a-89f3-3df6595d709a
SEQUENCE:0
DTSTAMP:20260421T122143Z
END:VEVENT
END:VCALENDAR
