BEGIN:VCALENDAR
VERSION:2.0
PRODID:-ABConcerts-events
METHOD:PUBLISH
BEGIN:VEVENT
TRANSP:OPAQUE
DTSTART:20260520T160000
DTEND:20260520T220000
SUMMARY:Group Atelier w/Paulo Rietjens (ASTROFISIKS)
LOCATION:FRONTALstudio (Anspachlaan 77\, 1000 Brussel)
DESCRIPTION:Group Atelier est un moment dédié au retour\nd&#39;expérience pour les jeunes artistes. Dans le cadre\nd&#39;un petit groupe\, nous écoutons des œuvres en cours\nde création\, discutons des choix artistiques et explorons\nensemble les prochaines étapes. Ces sessions se concentrent\nsur les étapes clés du parcours d&#39;un artiste.\nAujourd&#39;hui : sessions de démo\, avec Paulo Rietjens.Au\ncours de cet Atelier de groupe\, tu auras l&#39;occasion de\nrecevoir des retours de Paulo sur tes démos\, afin de\nt&#39;aider à affiner ton son. Cette session aura lieu le\n20 mai\, de 16h à 22h au studio FRONTAL. (NL/FR/ENG).Niveau\n: Jeunes artistes ou musiciens en développementÀ apporter\n: Vos propres démos à partager et pour lesquelles vous\nsouhaitez recevoir des commentairesPour qui : Jeunes\nartistes qui développent de nouveaux morceaux et souhaitent\nrecevoir des commentairesPrix : Gratuit (inscription\nobligatoire)Où : Studio FRONTAL\, boulevard Anspach 77Quand\n: 20 mai de 16h à 22hPaulo Rietjens est un producteur et\nrappeur bruxellois\, cofondateur du collectif de rap\nStikstof. Sous le nom d’« Astrofisiks »\, il s’est\nimposé comme une figure incontournable de la scène\nbruxelloise.
URL;VALUE=URI:https://zebrix.abconcerts.be/fr/agenda/group-atelier-wpaulo-rietjens-astrofisiks/a10Qw00000HW5cHIAT
UID:ABConcerts_event_1f12c1e8-5d0c-65ec-967b-b97e630f44d8
SEQUENCE:0
DTSTAMP:20260422T201654Z
END:VEVENT
END:VCALENDAR
