BEGIN:VCALENDAR
VERSION:2.0
PRODID:-ABConcerts-events
METHOD:PUBLISH
BEGIN:VEVENT
TRANSP:OPAQUE
DTSTART:20180202T200000
DTEND:20180202T223000
SUMMARY:Ghostpoet
LOCATION:AB Club - staand (Anspachlaan 110\, 1000 Brussel)
DESCRIPTION:Présentation de l’opus sombre et incisif « Dark Days &\nCanapés »
URL;VALUE=URI:https://zebrix.abconcerts.be/fr/agenda/ghostpoet/a105J000001wdKsQAI
UID:ABConcerts_event_58ef1a6c-599f-11eb-a199-5254eb761bff
SEQUENCE:0
DTSTAMP:20260423T124712Z
END:VEVENT
END:VCALENDAR
