BEGIN:VCALENDAR
VERSION:2.0
PRODID:-ABConcerts-events
METHOD:PUBLISH
BEGIN:VEVENT
TRANSP:OPAQUE
DTSTART:20230828T190000
DTEND:20230828T233000
SUMMARY:Feeërieën: Paul St. Hilaire x Richard Akingbehin + The Bug
 x Dis Fig
LOCATION:Het Warandepark (Warandepark\, 1000 Brussels)
DESCRIPTION:Deux grands maîtres du dub pour les fans de Rhythm & Sound\net Basic Channel
URL;VALUE=URI:https://zebrix.abconcerts.be/fr/agenda/feeerieen-paul-st-hilaire-x-richard-akingbehin-the-bug-x-dis-fig/a105J000008G47SQAS
UID:ABConcerts_event_f61664ec-e59a-11ed-bdab-5254eb761bff
SEQUENCE:0
DTSTAMP:20260425T231138Z
END:VEVENT
END:VCALENDAR
