BEGIN:VCALENDAR
VERSION:2.0
PRODID:-ABConcerts-events
METHOD:PUBLISH
BEGIN:VEVENT
TRANSP:OPAQUE
DTSTART:20260529T190000
DTEND:20260529T223000
SUMMARY:Emmy d'Arc
LOCATION:AB Grote zaal (Anspachlaan 110\, 1000 Brussel)
DESCRIPTION:La chanteuse-compositrice limbourgeoise poursuit sa\nconquête
URL;VALUE=URI:https://zebrix.abconcerts.be/fr/agenda/emmy-darc/a10Qw00000AK7ijIAD
UID:ABConcerts_event_1f02f0b4-c8eb-63a4-a95b-cff1edb63b61
SEQUENCE:0
DTSTAMP:20260421T055732Z
END:VEVENT
END:VCALENDAR
