BEGIN:VCALENDAR
VERSION:2.0
PRODID:-ABConcerts-events
METHOD:PUBLISH
BEGIN:VEVENT
TRANSP:OPAQUE
DTSTART:20201126T200000
DTEND:20201126T223000
SUMMARY:CANCELLED: ABnormal - The End feat. Mats Gustafsson + Yves D
e mey & Gino Coomans
LOCATION:AB Theater (Anspachlaan 110\, 1000 Brussel)
DESCRIPTION:Suite au COVID-19\, le concert ABnormal de THE END FEAT.\nMATS GUSTAFSSON + YVES DE MEY &amp; GINO\nCOOMANS est annulé. Nous vous remercions pour votre\ncompréhension.  Les tickets que vous avez achetés en ligne\nseront automatiquement remboursés dans les 30 jours\, via\nle même système de paiement.  Si vous avez acheté des\ntickets dans notre billetterie ou via Ticketswap\, veuillez\nnous envoyer une photo de vos tickets en mentionnant votre\nnuméro de compte à info@abconcerts.be.    Concert en\ncolloboration avec Sound in Motion/Summer Bummer Rebound   \nThe End    Que ce soit en solo\, aux côtés de l’icône\nde la pop Neneh Cherry ou dans une version à 28 têtes de\nFire!\, le saxophoniste suédois Mats Gustafsson parvient\ntoujours à créer la surprise. THE END ne fait pas\nexception à cette règle. Accompagné du phénomène vocal\nSofia Jernberg (Fire! Orchestra)\, du saxophoniste Kjetil\nMøster (Ultralyd\, Møster)\, du guitariste Anders Hana\n(MoHa!\, Jaga Jazzist) et du batteur Børge Fjordheim\n(Cloroform)\, Gustafsson vous fait passer\, en un claquement\nde doigts\, de la beauté la plus subtile au bruit le plus\nlaid\, et vice versa.    Envie de #hashtags ? … Pourquoi\npas : rock alternatif\, free jazz\, noise\, musique impro\,\nfolk scandinave\, musique contemporaine\, opéra\,\ngrindcore\, musique ethnique\, jazz et consorts.    YVES DE\nMEY &amp; GINO COOMANS    Soucieux d’élargir son horizon\nsonore\, le mille-pattes musical Yves De Mey a hissé le\nvioloncelliste Gino Coomans (Sheldon Siegel) et le\nbatteur/percussionniste Louis Evrard (Ottla) à bord pour\nune performance live unique lors du Summer Bummer Festival\nen 2019. Ce même trio – baptisé Grid Ravage – nous a\nensuite asséné un uppercut lors du Sound Of The Belgian\nUnderground à l’AB. Cet automne\, les trois se\nretrouveront en studio. Mais avant ce rendez-vous\, De Mey\nsortira une nouvelle fois des sentiers battus dans le cadre\nde notre programmation « ABnormale » et comptera sur\nl’imprévisible violoncelle de Coomans pour dessiner la\ntrajectoire à soubresauts de son electronica aventureuse.
URL;VALUE=URI:https://zebrix.abconcerts.be/fr/agenda/cancelled-abnormal-the-end-feat-mats-gustafsson-yves-de-mey-gino-coomans/a105J000001wd0TQAQ
UID:ABConcerts_event_57644384-599f-11eb-b3f1-5254eb761bff
SEQUENCE:0
DTSTAMP:20260421T132139Z
END:VEVENT
END:VCALENDAR
